BEGIN:VCALENDAR
VERSION:2.0
PRODID:-//Child and Family - ECPv6.15.18//NONSGML v1.0//EN
CALSCALE:GREGORIAN
METHOD:PUBLISH
X-ORIGINAL-URL:https://childandfamilyri.org
X-WR-CALDESC:Events for Child and Family
REFRESH-INTERVAL;VALUE=DURATION:PT1H
X-Robots-Tag:noindex
X-PUBLISHED-TTL:PT1H
BEGIN:VTIMEZONE
TZID:UTC
BEGIN:STANDARD
TZOFFSETFROM:+0000
TZOFFSETTO:+0000
TZNAME:UTC
DTSTART:20250101T000000
END:STANDARD
END:VTIMEZONE
BEGIN:VEVENT
DTSTART;VALUE=DATE:20260617
DTEND;VALUE=DATE:20260618
DTSTAMP:20260425T145626
CREATED:20260331T105534Z
LAST-MODIFIED:20260417T152847Z
UID:13433-1781654400-1781740799@childandfamilyri.org
SUMMARY:Townsend Luncheon
DESCRIPTION:On our 160th anniversary\, the Townsend Luncheon remains our most meaningful gathering. Enjoy an elegant afternoon overlooking the Atlantic while hearing firsthand how your support transforms lives—from children in our Sandpipers program to seniors aging well at home. Help us carry Ellen Townsend’s 1866 vision into 2026 as we raise vital funds for foster care\, supportive housing\, and family therapy. \nWe hope you can join us! Tickets and corporate tables can be purchased at http://bidpal.net/12thannualtownsend \nFor sponsorship opportunities please contact Bethany Wood\, Institutional Giving & Partnerships at Bwood@childandfamilyri.org. \n  \n			\n				Order Tickets
URL:https://childandfamilyri.org/event/townsend-luncheon/
ATTACH;FMTTYPE=image/jpeg:https://childandfamilyri.org/wp-content/uploads/2025/07/Townsend-Luncheon-2025-3.jpg
END:VEVENT
END:VCALENDAR