BEGIN:VCALENDAR
VERSION:2.0
PRODID:-//Child and Family - ECPv6.15.18//NONSGML v1.0//EN
CALSCALE:GREGORIAN
METHOD:PUBLISH
X-ORIGINAL-URL:https://childandfamilyri.org
X-WR-CALDESC:Events for Child and Family
REFRESH-INTERVAL;VALUE=DURATION:PT1H
X-Robots-Tag:noindex
X-PUBLISHED-TTL:PT1H
BEGIN:VTIMEZONE
TZID:UTC
BEGIN:STANDARD
TZOFFSETFROM:+0000
TZOFFSETTO:+0000
TZNAME:UTC
DTSTART:20240101T000000
END:STANDARD
END:VTIMEZONE
BEGIN:VEVENT
DTSTART;VALUE=DATE:20251018
DTEND;VALUE=DATE:20251020
DTSTAMP:20260423T121136
CREATED:20250410T145536Z
LAST-MODIFIED:20250415T182239Z
UID:12259-1760745600-1760918399@childandfamilyri.org
SUMMARY:34th Annual Bowen's Wharf Seafood Festival
DESCRIPTION:Bowen’s Wharf Event / Child & Family Beneficiary
URL:https://childandfamilyri.org/event/32nd-annual-newport-seafood-festival/
END:VEVENT
END:VCALENDAR