BEGIN:VCALENDAR
VERSION:2.0
PRODID:-//Child and Family - ECPv6.15.18//NONSGML v1.0//EN
CALSCALE:GREGORIAN
METHOD:PUBLISH
X-ORIGINAL-URL:https://childandfamilyri.org
X-WR-CALDESC:Events for Child and Family
REFRESH-INTERVAL;VALUE=DURATION:PT1H
X-Robots-Tag:noindex
X-PUBLISHED-TTL:PT1H
BEGIN:VTIMEZONE
TZID:UTC
BEGIN:STANDARD
TZOFFSETFROM:+0000
TZOFFSETTO:+0000
TZNAME:UTC
DTSTART:20240101T000000
END:STANDARD
END:VTIMEZONE
BEGIN:VEVENT
DTSTART;VALUE=DATE:20251206
DTEND;VALUE=DATE:20251207
DTSTAMP:20260421T131517
CREATED:20250410T145756Z
LAST-MODIFIED:20250415T182350Z
UID:12261-1764979200-1765065599@childandfamilyri.org
SUMMARY:55th Annual Tree Lighting
DESCRIPTION:Bowen’s Wharf Event / Child & Family
URL:https://childandfamilyri.org/event/55th-annual-tree-lighting/
END:VEVENT
END:VCALENDAR